BEGIN:VCALENDAR
VERSION:2.0
PRODID:-//Tukios.com/
BEGIN:VEVENT
UID:454fab18-5126-4ea9-afbc-091a16352403@www.hinsey-brown.com
DTSTAMP:20260419T220505Z
DTSTART:20260423T170000Z
DTEND:20260423T180000Z
SUMMARY:Funeral Service
DESCRIPTION:
URL:https://www.hinsey-brown.com/obituaries/betty-bruton
LOCATION: 3406 South Memorial Drive  New Castle IN 47362
GEO:39.8994568;-85.3846208
END:VEVENT
END:VCALENDAR