BEGIN:VCALENDAR
VERSION:2.0
PRODID:-//Tukios.com/
BEGIN:VEVENT
UID:36ec95b1-409a-4d07-8d47-d4e7b89cba66@www.hinsey-brown.com
DTSTAMP:20260419T220450Z
DTSTART:20260423T183000Z
DTEND:20260423T193000Z
SUMMARY:Burial
DESCRIPTION:
URL:https://www.hinsey-brown.com/obituaries/betty-bruton
LOCATION: 960 South Memorial Drive  New Castle IN 47362
GEO:39.9209694;-85.3815009
END:VEVENT
END:VCALENDAR