BEGIN:VCALENDAR
VERSION:2.0
PRODID:-//Tukios.com/
BEGIN:VEVENT
UID:8ce2b5a6-dafa-4d4f-a6b7-b87879cf09a8@www.hinsey-brown.com
DTSTAMP:20260424T202114Z
DTSTART:20260427T200000Z
DTEND:20260427T220000Z
SUMMARY:Visitation
DESCRIPTION:
URL:https://www.hinsey-brown.com/obituaries/c-lloyd-hosman
LOCATION: 7355 South State Road 109  Knightstown IN 46148
GEO:39.8253083;-85.5386099
END:VEVENT
END:VCALENDAR