BEGIN:VCALENDAR
VERSION:2.0
PRODID:-//Tukios.com/
BEGIN:VEVENT
UID:4800e3e0-46b4-477c-9f5d-b32a55e77324@www.hinsey-brown.com
DTSTAMP:20260424T201851Z
DTSTART:20260427T220000Z
DTEND:20260427T230000Z
SUMMARY:Funeral Service
DESCRIPTION:
URL:https://www.hinsey-brown.com/obituaries/c-lloyd-hosman
LOCATION: 7355 South State Road 109  Knightstown IN 46148
GEO:39.8253083;-85.5386099
END:VEVENT
END:VCALENDAR