BEGIN:VCALENDAR
VERSION:2.0
PRODID:-//Tukios.com/
BEGIN:VEVENT
UID:3aba9725-ca94-4250-8bde-da5793a97b2b@www.hinsey-brown.com
DTSTAMP:20260423T003059Z
DTSTART:20260427T150000Z
DTEND:20260427T160000Z
SUMMARY:Graveside Service
DESCRIPTION:
URL:https://www.hinsey-brown.com/obituaries/dale-bell
LOCATION: 960 South Memorial Drive  New Castle IN 47362
GEO:39.9209694;-85.3815009
END:VEVENT
END:VCALENDAR