BEGIN:VCALENDAR
VERSION:2.0
PRODID:-//Tukios.com/
BEGIN:VEVENT
UID:e99a283c-b42d-4024-9f2e-2019c5e1d552@www.hinsey-brown.com
DTSTAMP:20260421T004256Z
DTSTART:20260425T160000Z
DTEND:20260425T180000Z
SUMMARY:Visitation
DESCRIPTION:
URL:https://www.hinsey-brown.com/obituaries/lileigh-messer
LOCATION: 3406 South Memorial Drive  New Castle IN 47362
GEO:39.8994568;-85.3846208
END:VEVENT
END:VCALENDAR