BEGIN:VCALENDAR
VERSION:2.0
PRODID:-//Tukios.com/
BEGIN:VEVENT
UID:1ebe718f-b4f3-43c6-b577-976474b238be@www.hinsey-brown.com
DTSTAMP:20260421T004246Z
DTSTART:20260425T180000Z
DTEND:20260425T190000Z
SUMMARY:Funeral Service
DESCRIPTION:
URL:https://www.hinsey-brown.com/obituaries/lileigh-messer
LOCATION: 3406 South Memorial Drive  New Castle IN 47362
GEO:39.8994568;-85.3846208
END:VEVENT
END:VCALENDAR