BEGIN:VCALENDAR
VERSION:2.0
PRODID:-//Tukios.com/
BEGIN:VEVENT
UID:fffd2e55-05a1-4fae-a799-0f0844a336c0@www.hinsey-brown.com
DTSTAMP:20260420T184029Z
DTSTART:20260423T173000Z
DTEND:20260423T183000Z
SUMMARY:Visitation
DESCRIPTION:
URL:https://www.hinsey-brown.com/obituaries/rodney-boiles
LOCATION: 3406 South Memorial Drive  New Castle IN 47362
GEO:39.8994568;-85.3846208
END:VEVENT
END:VCALENDAR