BEGIN:VCALENDAR
VERSION:2.0
PRODID:-//Tukios.com/
BEGIN:VEVENT
UID:585aa29e-da64-41e8-aaa9-116a4cc9c9f3@www.hinsey-brown.com
DTSTAMP:20260420T184057Z
DTSTART:20260423T190000Z
DTEND:20260423T200000Z
SUMMARY:Graveside Service
DESCRIPTION:
URL:https://www.hinsey-brown.com/obituaries/rodney-boiles
LOCATION: 6041 South Cemetery Drive  Spiceland IN 47385
GEO:39.8403549;-85.4436579
END:VEVENT
END:VCALENDAR