BEGIN:VCALENDAR
VERSION:2.0
PRODID:-//Tukios.com/
BEGIN:VEVENT
UID:8b3a0d60-b0e9-48a8-87f9-d25eeb92873f@www.hinsey-brown.com
DTSTAMP:20260423T234658Z
DTSTART:20260428T200000Z
DTEND:20260429T000000Z
SUMMARY:Visitation
DESCRIPTION:
URL:https://www.hinsey-brown.com/obituaries/ronald-ronnie-trimnell
LOCATION: 7355 South State Road 109  Knightstown IN 46148
GEO:39.8253083;-85.5386099
END:VEVENT
END:VCALENDAR