BEGIN:VCALENDAR
VERSION:2.0
PRODID:-//Tukios.com/
BEGIN:VEVENT
UID:6d7fe428-0987-4ba2-93dd-629470e0c8ec@www.hinsey-brown.com
DTSTAMP:20260423T234658Z
DTSTART:20260429T150000Z
DTEND:20260429T160000Z
SUMMARY:Funeral Service
DESCRIPTION:
URL:https://www.hinsey-brown.com/obituaries/ronald-ronnie-trimnell
LOCATION: 7355 South State Road 109  Knightstown IN 46148
GEO:39.8253083;-85.5386099
END:VEVENT
END:VCALENDAR